BEGIN:VCALENDAR
VERSION:2.0
PRODID:-//Plone.org//NONSGML plone.app.event//EN
X-WR-TIMEZONE:Europe/Madrid
BEGIN:VEVENT
SUMMARY:Campus de patinatge de Setmana Santa 2013
DTSTART;TZID=Europe/Madrid;VALUE=DATE-TIME:20130325T090000
DTEND;TZID=Europe/Madrid;VALUE=DATE-TIME:20130325T100000
DTSTAMP;VALUE=DATE-TIME:20260422T231244Z
UID:0a700c117ab19ba877734c644a0ecbfb
CREATED;VALUE=DATE-TIME:20130325T000000Z
CATEGORIES:Esports
LOCATION:Pavelló Poliesportiu Municipal
ORGANIZER:Club de Patinatge Artístic Caldes d'Estrac
COMMENT:Preu: 45 &euro; socis - 60 &euro; no socis
Durada: 28 de març de 2013
DESCRIPTION:Campus de patinatge artístic
URL:https://caldetes.cat/document.php?id=2122
END:VEVENT
END:VCALENDAR