BEGIN:VCALENDAR
VERSION:2.0
PRODID:-//Plone.org//NONSGML plone.app.event//EN
X-WR-TIMEZONE:Europe/Madrid
BEGIN:VEVENT
SUMMARY:18a Festa de la Primavera
DTSTART;TZID=Europe/Madrid;VALUE=DATE-TIME:20130317T110000
DTEND;TZID=Europe/Madrid;VALUE=DATE-TIME:20130317T120000
DTSTAMP;VALUE=DATE-TIME:20260424T154757Z
UID:aeabe7f67fe9e99cf0525b2865abebc5
CREATED;VALUE=DATE-TIME:20130317T000000Z
LOCATION:Al final de la Riera i façana marítima (davant Hotel Colón)
ORGANIZER:Arrels Cultura amb la col·laboració de l'Associació esportiva Mar&Natura i l'AMPA de l'escola Sagrada Família i el patrocini de l'Ajuntament de Caldes d'Estrac
COMMENT:Preu: Gratuït
DESCRIPTION:Festa familiar per a nenes i nenes acompanyats de pares i familiars.
URL:https://caldetes.cat/document.php?id=2129
END:VEVENT
END:VCALENDAR