BEGIN:VCALENDAR
VERSION:2.0
PRODID:-//Plone.org//NONSGML plone.app.event//EN
X-WR-TIMEZONE:Europe/Madrid
BEGIN:VEVENT
SUMMARY:Espai de Salut amb Reiki
DTSTART;TZID=Europe/Madrid;VALUE=DATE-TIME:20130424T100000
DTEND;TZID=Europe/Madrid;VALUE=DATE-TIME:20130424T110000
DTSTAMP;VALUE=DATE-TIME:20260424T143208Z
UID:0f7828ac91e5cddb6bb4fdd13970031d
CREATED;VALUE=DATE-TIME:20130424T000000Z
LOCATION:Sala Cultural
ORGANIZER:Voluntaris Reiki de Catalunya de Caldetes
COMMENT:Preu: Gratuït
URL:https://caldetes.cat/document.php?id=2131
END:VEVENT
END:VCALENDAR