BEGIN:VCALENDAR
VERSION:2.0
PRODID:-//Plone.org//NONSGML plone.app.event//EN
X-WR-TIMEZONE:Europe/Madrid
BEGIN:VEVENT
SUMMARY:Espai de Salut amb Reiki
DTSTART;TZID=Europe/Madrid;VALUE=DATE-TIME:20130508T100000
DTEND;TZID=Europe/Madrid;VALUE=DATE-TIME:20130508T110000
DTSTAMP;VALUE=DATE-TIME:20260423T002327Z
UID:dfc40509b5926566e0e42d5cc731128b
CREATED;VALUE=DATE-TIME:20130508T000000Z
LOCATION:Sala Cultural
ORGANIZER:Voluntaris Reiki de Catalunya de Caldetes
COMMENT:Preu: Gratuït
URL:https://caldetes.cat/document.php?id=2132
END:VEVENT
END:VCALENDAR