BEGIN:VCALENDAR
VERSION:2.0
PRODID:-//Plone.org//NONSGML plone.app.event//EN
X-WR-TIMEZONE:Europe/Madrid
BEGIN:VEVENT
SUMMARY:Espai de Salut amb Reiki
DTSTART;TZID=Europe/Madrid;VALUE=DATE-TIME:20130522T100000
DTEND;TZID=Europe/Madrid;VALUE=DATE-TIME:20130522T110000
DTSTAMP;VALUE=DATE-TIME:20260425T231155Z
UID:fa125e068f06555fc3b6cba4fd8f5c3a
CREATED;VALUE=DATE-TIME:20130522T000000Z
LOCATION:Sala Cultural
ORGANIZER:Voluntaris Reiki de Catalunya de Caldetes
COMMENT:Preu: Gratuït
URL:https://caldetes.cat/document.php?id=2133
END:VEVENT
END:VCALENDAR