BEGIN:VCALENDAR
VERSION:2.0
PRODID:-//Plone.org//NONSGML plone.app.event//EN
X-WR-TIMEZONE:Europe/Madrid
BEGIN:VEVENT
SUMMARY:Espai de Salut amb Reiki
DTSTART;TZID=Europe/Madrid;VALUE=DATE-TIME:20130626T100000
DTEND;TZID=Europe/Madrid;VALUE=DATE-TIME:20130626T110000
DTSTAMP;VALUE=DATE-TIME:20260424T120536Z
UID:48697d0cee54314318f0ef72ff498ba2
CREATED;VALUE=DATE-TIME:20130626T000000Z
LOCATION:Sala Cultural
ORGANIZER:Voluntaris Reiki de Catalunya de Caldetes
COMMENT:Preu: Gratuït
URL:https://caldetes.cat/document.php?id=2135
END:VEVENT
END:VCALENDAR