BEGIN:VCALENDAR
VERSION:2.0
PRODID:-//Plone.org//NONSGML plone.app.event//EN
X-WR-TIMEZONE:Europe/Madrid
BEGIN:VEVENT
SUMMARY:Taller d'Orenetes
DTSTART;TZID=Europe/Madrid;VALUE=DATE-TIME:20130407T110000
DTEND;TZID=Europe/Madrid;VALUE=DATE-TIME:20130407T120000
DTSTAMP;VALUE=DATE-TIME:20260420T093206Z
UID:8f3941743b9956e30f4a81e40ef325a1
CREATED;VALUE=DATE-TIME:20130407T000000Z
LOCATION:L'Equipament (La Fabriqueta)
ORGANIZER:Arrels Cultura
COMMENT:Preu: 2 euros
DESCRIPTION:Activitat per adults i nens acompanyats, mestres, monitors i persones amants dels ocells
URL:https://caldetes.cat/document.php?id=2141
END:VEVENT
END:VCALENDAR