BEGIN:VCALENDAR
VERSION:2.0
PRODID:-//Plone.org//NONSGML plone.app.event//EN
X-WR-TIMEZONE:Europe/Madrid
BEGIN:VEVENT
SUMMARY:Cafè amb l'alcalde
DTSTART;TZID=Europe/Madrid;VALUE=DATE-TIME:20130424T170000
DTEND;TZID=Europe/Madrid;VALUE=DATE-TIME:20130424T180000
DTSTAMP;VALUE=DATE-TIME:20260421T161037Z
UID:1ef4217319d389628c9243bfffccf6a6
CREATED;VALUE=DATE-TIME:20130424T000000Z
LOCATION:Ajuntament (Plaça de la Vila)
ORGANIZER:Ajuntament de Caldes d'Estrac
DESCRIPTION:Inscripcions obertes per la trobada del mes d'abril
URL:https://caldetes.cat/document.php?id=2145
END:VEVENT
END:VCALENDAR