BEGIN:VCALENDAR
VERSION:2.0
PRODID:-//Plone.org//NONSGML plone.app.event//EN
X-WR-TIMEZONE:Europe/Madrid
BEGIN:VEVENT
SUMMARY:Preselecció Infantil de Patinatge Artístic
DTSTART;TZID=Europe/Madrid;VALUE=DATE-TIME:20130427T090000
DTEND;TZID=Europe/Madrid;VALUE=DATE-TIME:20130427T100000
DTSTAMP;VALUE=DATE-TIME:20260425T172612Z
UID:b16b8c1110dfce93cfef00a2cae14483
CREATED;VALUE=DATE-TIME:20130427T000000Z
CATEGORIES:Esports
LOCATION:Pavelló de Sant Iscle de Vallalta
ORGANIZER:Club de Patinatge Artístic Caldes d'Estrac
DESCRIPTION:Preselecció de Barcelona
URL:https://caldetes.cat/document.php?id=2147
END:VEVENT
END:VCALENDAR