BEGIN:VCALENDAR
VERSION:2.0
PRODID:-//Plone.org//NONSGML plone.app.event//EN
X-WR-TIMEZONE:Europe/Madrid
BEGIN:VEVENT
SUMMARY:Acte de commemoració del 20è aniversari de la Biblioteca Municipal Can Milans
DTSTART;TZID=Europe/Madrid;VALUE=DATE-TIME:20130504T113000
DTEND;TZID=Europe/Madrid;VALUE=DATE-TIME:20130504T123000
DTSTAMP;VALUE=DATE-TIME:20260425T024527Z
UID:96b61cc2a8f6099c824d9221be8e8fc6
CREATED;VALUE=DATE-TIME:20130504T000000Z
CATEGORIES:Exposició,Festa
LOCATION:Biblioteca Can Milans
ORGANIZER:Biblioteca Can Milans
URL:https://caldetes.cat/document.php?id=2148
END:VEVENT
END:VCALENDAR