BEGIN:VCALENDAR
VERSION:2.0
PRODID:-//Plone.org//NONSGML plone.app.event//EN
X-WR-TIMEZONE:Europe/Madrid
BEGIN:VEVENT
SUMMARY:Parada de Roses cooperatives i solidaries
DTSTART;TZID=Europe/Madrid;VALUE=DATE-TIME:20130423T100000
DTEND;TZID=Europe/Madrid;VALUE=DATE-TIME:20130423T110000
DTSTAMP;VALUE=DATE-TIME:20260425T155857Z
UID:260e4f1e8587a1d2a58e98d905264bec
CREATED;VALUE=DATE-TIME:20130423T000000Z
LOCATION:Esplanada Can Muntanyà
ORGANIZER:Serveis Socials
COMMENT:Preu: Gratuït
URL:https://caldetes.cat/document.php?id=2149
END:VEVENT
END:VCALENDAR