BEGIN:VCALENDAR
VERSION:2.0
PRODID:-//Plone.org//NONSGML plone.app.event//EN
X-WR-TIMEZONE:Europe/Madrid
BEGIN:VEVENT
SUMMARY:Lectura continuada de poesia a la Fundació Palau
DTSTART;TZID=Europe/Madrid;VALUE=DATE-TIME:20130423T090000
DTEND;TZID=Europe/Madrid;VALUE=DATE-TIME:20130423T100000
DTSTAMP;VALUE=DATE-TIME:20260422T030538Z
UID:0d0ad2eddcf469815e22077432a3ab7d
CREATED;VALUE=DATE-TIME:20130423T000000Z
CATEGORIES:Literatura
LOCATION:Fundació Palau
ORGANIZER:Fundació Palau
COMMENT:Preu: Gratuït
Durada: fins a les 14 hores
URL:https://caldetes.cat/document.php?id=2154
END:VEVENT
END:VCALENDAR