BEGIN:VCALENDAR
VERSION:2.0
PRODID:-//Plone.org//NONSGML plone.app.event//EN
X-WR-TIMEZONE:Europe/Madrid
BEGIN:VEVENT
SUMMARY:Vè Festival de Caldetes amb l'Índia
DTSTART;TZID=Europe/Madrid;VALUE=DATE-TIME:20130526T113000
DTEND;TZID=Europe/Madrid;VALUE=DATE-TIME:20130526T123000
DTSTAMP;VALUE=DATE-TIME:20260424T111701Z
UID:b0af067717c6120642c97ace86aaa065
CREATED;VALUE=DATE-TIME:20130526T000000Z
CATEGORIES:Festa
LOCATION:Pavelló Poliesportiu Municipal
ORGANIZER:El Somriure dels Nens
COMMENT:Preu: LLiure ( Dinar sí)
Durada: 11:30 a 18h
DESCRIPTION:Tota una jornada dedicada a l'Índia
URL:https://caldetes.cat/document.php?id=2164
END:VEVENT
END:VCALENDAR