BEGIN:VCALENDAR
VERSION:2.0
PRODID:-//Plone.org//NONSGML plone.app.event//EN
X-WR-TIMEZONE:Europe/Madrid
BEGIN:VEVENT
SUMMARY:Exposició: Apel·les Mestres artista total i home polièdric
DTSTART;TZID=Europe/Madrid;VALUE=DATE-TIME:20130510T190000
DTEND;TZID=Europe/Madrid;VALUE=DATE-TIME:20130510T200000
DTSTAMP;VALUE=DATE-TIME:20260423T082148Z
UID:6dee84b07999612cf97889825f201107
CREATED;VALUE=DATE-TIME:20130510T000000Z
LOCATION:L'Equipament (La Fabriqueta)
ORGANIZER:Arrels Cultura amb el suport de l'Ajuntament de Caldes d'Estrac
COMMENT:Preu: Entrada lliure i gratuïta
Durada: Fins el 31 de maig
DESCRIPTION:Repàs de les facetes artístiques i íntimes del personatge
URL:https://caldetes.cat/document.php?id=2165
END:VEVENT
END:VCALENDAR