BEGIN:VCALENDAR
VERSION:2.0
PRODID:-//Plone.org//NONSGML plone.app.event//EN
X-WR-TIMEZONE:Europe/Madrid
BEGIN:VEVENT
SUMMARY:Foto oficial de la Generació de nadons de l'any 2012
DTSTART;TZID=Europe/Madrid;VALUE=DATE-TIME:20130501T120000
DTEND;TZID=Europe/Madrid;VALUE=DATE-TIME:20130501T130000
DTSTAMP;VALUE=DATE-TIME:20260420T051205Z
UID:3fb6b7f3b8cf06a4e597a47f41a9b6e3
CREATED;VALUE=DATE-TIME:20130501T000000Z
LOCATION:Pèrgola Can Muntanyà
ORGANIZER:Àrea d'Infància i Joventut (Ajuntament de Caldes d'Estrac)
URL:https://caldetes.cat/document.php?id=2166
END:VEVENT
END:VCALENDAR