BEGIN:VCALENDAR
VERSION:2.0
PRODID:-//Plone.org//NONSGML plone.app.event//EN
X-WR-TIMEZONE:Europe/Madrid
BEGIN:VEVENT
SUMMARY:Campionat de Barcelona Infantil 2013 de Patinatge Artístic
DTSTART;TZID=Europe/Madrid;VALUE=DATE-TIME:20130601T235900
DTEND;TZID=Europe/Madrid;VALUE=DATE-TIME:20130602T005900
DTSTAMP;VALUE=DATE-TIME:20260421T154511Z
UID:8f785c67528365dc7e73e7841e466859
CREATED;VALUE=DATE-TIME:20130601T000000Z
CATEGORIES:Esports
LOCATION:Pavelló de Cubelles
ORGANIZER:Club de Patinatge Artístic Caldes d'Estrac
COMMENT:Durada: 2 de juny de 2013
DESCRIPTION:Competició de Patinatge Artístic
URL:https://caldetes.cat/document.php?id=2170
END:VEVENT
END:VCALENDAR