BEGIN:VCALENDAR
VERSION:2.0
PRODID:-//Plone.org//NONSGML plone.app.event//EN
X-WR-TIMEZONE:Europe/Madrid
BEGIN:VEVENT
SUMMARY:Campionat de Catalunya Juvenil 2013 de Patinatge Artístic
DTSTART;TZID=Europe/Madrid;VALUE=DATE-TIME:20130525T235900
DTEND;TZID=Europe/Madrid;VALUE=DATE-TIME:20130526T005900
DTSTAMP;VALUE=DATE-TIME:20260423T143019Z
UID:456d1bee81dd320b4d5da48e6f9862d4
CREATED;VALUE=DATE-TIME:20130525T000000Z
CATEGORIES:Esports
LOCATION:Pavelló de Reus
ORGANIZER:Club de Patinatge Artístic Caldes d'Estrac
COMMENT:Durada: 26 de maig de 2013
DESCRIPTION:Competició de Patinatge Artístic
URL:https://caldetes.cat/document.php?id=2180
END:VEVENT
END:VCALENDAR