BEGIN:VCALENDAR
VERSION:2.0
PRODID:-//Plone.org//NONSGML plone.app.event//EN
X-WR-TIMEZONE:Europe/Madrid
BEGIN:VEVENT
SUMMARY:Xerrada
DTSTART;TZID=Europe/Madrid;VALUE=DATE-TIME:20130619T170000
DTEND;TZID=Europe/Madrid;VALUE=DATE-TIME:20130619T180000
DTSTAMP;VALUE=DATE-TIME:20260424T233543Z
UID:04a5f915709954a5b8153d3d91ecb96c
CREATED;VALUE=DATE-TIME:20130619T000000Z
CATEGORIES:Conferència
LOCATION:L'Equipament (La Fabriqueta)
ORGANIZER:Serveis Socials (Ajuntament de Caldes d'Estrac)
COMMENT:Preu: gratuit
DESCRIPTION:Tastet d'astrologia
URL:https://caldetes.cat/document.php?id=2185
END:VEVENT
END:VCALENDAR