BEGIN:VCALENDAR
VERSION:2.0
PRODID:-//Plone.org//NONSGML plone.app.event//EN
X-WR-TIMEZONE:Europe/Madrid
BEGIN:VEVENT
SUMMARY:I tu per què no ?
DTSTART;TZID=Europe/Madrid;VALUE=DATE-TIME:20130606T100000
DTEND;TZID=Europe/Madrid;VALUE=DATE-TIME:20130606T110000
DTSTAMP;VALUE=DATE-TIME:20260422T040737Z
UID:32504f59f1f34bc49e8090fd2cccac61
CREATED;VALUE=DATE-TIME:20130606T000000Z
LOCATION:Casal avis
ORGANIZER:Serveis Socials i Diputació de Barcelona
COMMENT:Preu: gratuit
DESCRIPTION:Taller
URL:https://caldetes.cat/document.php?id=2187
END:VEVENT
END:VCALENDAR