BEGIN:VCALENDAR
VERSION:2.0
PRODID:-//Plone.org//NONSGML plone.app.event//EN
X-WR-TIMEZONE:Europe/Madrid
BEGIN:VEVENT
SUMMARY:Les causes profundes de la crisi i com fer-hi front
DTSTART;TZID=Europe/Madrid;VALUE=DATE-TIME:20130607T190000
DTEND;TZID=Europe/Madrid;VALUE=DATE-TIME:20130607T200000
DTSTAMP;VALUE=DATE-TIME:20260424T160324Z
UID:b341207a5cf10094dfe826934a6ec5b0
CREATED;VALUE=DATE-TIME:20130607T000000Z
CATEGORIES:Conferència
LOCATION:Sala Cultural
ORGANIZER:PLATAFORMA CÍVICA DE CALDES D'ESTRAC
COMMENT:Preu: Entrada lliure
DESCRIPTION:Conferència del professor Vicenç NAVARRO
URL:https://caldetes.cat/document.php?id=2190
END:VEVENT
END:VCALENDAR