BEGIN:VCALENDAR
VERSION:2.0
PRODID:-//Plone.org//NONSGML plone.app.event//EN
X-WR-TIMEZONE:Europe/Madrid
BEGIN:VEVENT
SUMMARY:I tu, per què no?
DTSTART;TZID=Europe/Madrid;VALUE=DATE-TIME:20130611T101500
DTEND;TZID=Europe/Madrid;VALUE=DATE-TIME:20130611T111500
DTSTAMP;VALUE=DATE-TIME:20260426T020341Z
UID:81b562127eef095f5472e02e3edaadc9
CREATED;VALUE=DATE-TIME:20130611T000000Z
LOCATION:Casal dels Avis
ORGANIZER:Serveis Socials (Ajuntament de Caldes d'Estrac), amb la col·laboració dels Casal dels Avis i la Diputació de Barcelona
COMMENT:Preu: Gratuït
DESCRIPTION:Informàtica
URL:https://caldetes.cat/document.php?id=2197
END:VEVENT
END:VCALENDAR