BEGIN:VCALENDAR
VERSION:2.0
PRODID:-//Plone.org//NONSGML plone.app.event//EN
X-WR-TIMEZONE:Europe/Madrid
BEGIN:VEVENT
SUMMARY:11a Festa de l'Esport
DTSTART;TZID=Europe/Madrid;VALUE=DATE-TIME:20130603T090000
DTEND;TZID=Europe/Madrid;VALUE=DATE-TIME:20130603T100000
DTSTAMP;VALUE=DATE-TIME:20260420T080804Z
UID:697091f5f67b3a6740613e3eb655377d
CREATED;VALUE=DATE-TIME:20130603T000000Z
CATEGORIES:Esports
LOCATION:Pavelló Poliesportiu Municipal
ORGANIZER:Sige Sport Caldetes i Àrea d'Esports (Ajuntament de Caldes d'Estrac)
URL:https://caldetes.cat/document.php?id=2204
END:VEVENT
END:VCALENDAR