BEGIN:VCALENDAR
VERSION:2.0
PRODID:-//Plone.org//NONSGML plone.app.event//EN
X-WR-TIMEZONE:Europe/Madrid
BEGIN:VEVENT
SUMMARY:28è Aniversari de l'Agrupació de Pensionistes i 3a Edat de Caldes d'Estrac
DTSTART;TZID=Europe/Madrid;VALUE=DATE-TIME:20130602T100000
DTEND;TZID=Europe/Madrid;VALUE=DATE-TIME:20130602T110000
DTSTAMP;VALUE=DATE-TIME:20260424T184116Z
UID:228adc32c5419d1d53955f0c7f5001f2
CREATED;VALUE=DATE-TIME:20130602T000000Z
CATEGORIES:Festa
ORGANIZER:Agrupació de Pensionistes i 3a Edat de Caldes d'Estrac amb el patrocini de la Caixa i l'Obra Social Caixa Laietana i la col·laboració de l'Ajuntament de Caldes d'Estrac
URL:https://caldetes.cat/document.php?id=2205
END:VEVENT
END:VCALENDAR