BEGIN:VCALENDAR
VERSION:2.0
PRODID:-//Plone.org//NONSGML plone.app.event//EN
X-WR-TIMEZONE:Europe/Madrid
BEGIN:VEVENT
SUMMARY:28è Aniversari de l'Agrupació de Pensionistes i 3a Edat de Caldes d'Estrac
DTSTART;TZID=Europe/Madrid;VALUE=DATE-TIME:20130531T000000
DTEND;TZID=Europe/Madrid;VALUE=DATE-TIME:20130531T010000
DTSTAMP;VALUE=DATE-TIME:20260420T093047Z
UID:b4bda9b57426dcbd24897194cd75e4ac
CREATED;VALUE=DATE-TIME:20130531T000000Z
CATEGORIES:Festa
ORGANIZER:Agrupació de Pensionistes i 3a Edat de Caldes d'Estrac amb el patrocini de la Caixa i l'Obra Social Caixa Laietana i la col·laboració de l'Ajuntament de Caldes d'Estrac
DESCRIPTION:Visita i obsequi a la sòcia més gran, a càrrec de la Junta de l'Agrupació de Pensionistes i 3a Edat
URL:https://caldetes.cat/document.php?id=2206
END:VEVENT
END:VCALENDAR