BEGIN:VCALENDAR
VERSION:2.0
PRODID:-//Plone.org//NONSGML plone.app.event//EN
X-WR-TIMEZONE:Europe/Madrid
BEGIN:VEVENT
SUMMARY:Xerrada-Taller "Autoestima i adolescència"
DTSTART;TZID=Europe/Madrid;VALUE=DATE-TIME:20130612T180000
DTEND;TZID=Europe/Madrid;VALUE=DATE-TIME:20130612T190000
DTSTAMP;VALUE=DATE-TIME:20260423T121836Z
UID:138b06718807199865ba63ba7607142d
CREATED;VALUE=DATE-TIME:20130612T000000Z
LOCATION:L'Equipament (La Fabriqueta)
ORGANIZER:Àrea d'Infància i Joventut (Ajuntament de Caldes d'Estrac)
DESCRIPTION:A càrrec de la psicòloga Miriam Esquivel, de l'entitat Pura Vida
URL:https://caldetes.cat/document.php?id=2211
END:VEVENT
END:VCALENDAR