BEGIN:VCALENDAR
VERSION:2.0
PRODID:-//Plone.org//NONSGML plone.app.event//EN
X-WR-TIMEZONE:Europe/Madrid
BEGIN:VEVENT
SUMMARY:Campionat de Catalunya Infantil 2013 de Patinatge Artístic
DTSTART;TZID=Europe/Madrid;VALUE=DATE-TIME:20130720T090000
DTEND;TZID=Europe/Madrid;VALUE=DATE-TIME:20130720T100000
DTSTAMP;VALUE=DATE-TIME:20260425T224007Z
UID:951ee48da8bd97a9d7fea16cc54affea
CREATED;VALUE=DATE-TIME:20130720T000000Z
CATEGORIES:Esports
LOCATION:Pavelló de La Bordeta, Lleida
ORGANIZER:Club de Patinatge Artístic Caldes d'Estrac
COMMENT:Durada: 21 de juliol de 2013
DESCRIPTION:Competició de Patinatge Artístic
URL:https://caldetes.cat/document.php?id=2227
END:VEVENT
END:VCALENDAR