BEGIN:VCALENDAR
VERSION:2.0
PRODID:-//Plone.org//NONSGML plone.app.event//EN
X-WR-TIMEZONE:Europe/Madrid
BEGIN:VEVENT
SUMMARY:Carles Santos. Sense TítolPOESIA I +. Festival d'estiu a la Fundació Palau
DTSTART;TZID=Europe/Madrid;VALUE=DATE-TIME:20130628T220000
DTEND;TZID=Europe/Madrid;VALUE=DATE-TIME:20130628T230000
DTSTAMP;VALUE=DATE-TIME:20260423T074413Z
UID:145beb86d97229ca11b58d8c9469bcbc
CREATED;VALUE=DATE-TIME:20130628T000000Z
CATEGORIES:Música
LOCATION:Pèrgola Can Muntanyà
ORGANIZER:Fundació Palau i Ajuntament Caldes d'Estrac
COMMENT:Preu: 6 
DESCRIPTION:Del 28 de juny al 12 de juliol
URL:https://caldetes.cat/document.php?id=2236
END:VEVENT
END:VCALENDAR