BEGIN:VCALENDAR
VERSION:2.0
PRODID:-//Plone.org//NONSGML plone.app.event//EN
X-WR-TIMEZONE:Europe/Madrid
BEGIN:VEVENT
SUMMARY:POESIA I +. Festival d'estiu a la Fundació Palau
DTSTART;TZID=Europe/Madrid;VALUE=DATE-TIME:20130628T200000
DTEND;TZID=Europe/Madrid;VALUE=DATE-TIME:20130628T210000
DTSTAMP;VALUE=DATE-TIME:20260423T072203Z
UID:f9bf4f855faee577340587e3307d7571
CREATED;VALUE=DATE-TIME:20130628T000000Z
CATEGORIES:Exposició
LOCATION:Fundació Palau
ORGANIZER:Fundació Palau i Ajuntament Caldes d'Estrac
COMMENT:Preu: Gratuït
Durada: Fins les 10 h de la nit
DESCRIPTION:Del 28 de juny al 12 de juliol de 2013
URL:https://caldetes.cat/document.php?id=2237
END:VEVENT
END:VCALENDAR