BEGIN:VCALENDAR
VERSION:2.0
PRODID:-//Plone.org//NONSGML plone.app.event//EN
X-WR-TIMEZONE:Europe/Madrid
BEGIN:VEVENT
SUMMARY:POESIA I +.FESTIVAL D´ESTIU, FUNDACIÓ PALAU CALDES D´ESTRAC DEL 28 DE JUNY AL 12 DE JULIOL 2013
DTSTART;TZID=Europe/Madrid;VALUE=DATE-TIME:20130629T200000
DTEND;TZID=Europe/Madrid;VALUE=DATE-TIME:20130629T210000
DTSTAMP;VALUE=DATE-TIME:20260423T062045Z
UID:d5f8ecc407f5fa67cca8da0dd73d6de6
CREATED;VALUE=DATE-TIME:20130629T000000Z
CATEGORIES:Exposició
LOCATION:Fundació Palau
ORGANIZER:Fundació Palau i Ajuntament Caldes d'Estrac
COMMENT:Preu: Gratuït
Durada: Fins les 22hrs
DESCRIPTION:PORTES OBERTES A LA FUNDACIÓ PALAU
URL:https://caldetes.cat/document.php?id=2238
END:VEVENT
END:VCALENDAR