BEGIN:VCALENDAR
VERSION:2.0
PRODID:-//Plone.org//NONSGML plone.app.event//EN
X-WR-TIMEZONE:Europe/Madrid
BEGIN:VEVENT
SUMMARY:Conferència de Cristina Mendoza sobre Nicolau Raurich
POESIA I +. Festival d'estiu a la Fundació Palau
DTSTART;TZID=Europe/Madrid;VALUE=DATE-TIME:20130629T180000
DTEND;TZID=Europe/Madrid;VALUE=DATE-TIME:20130629T190000
DTSTAMP;VALUE=DATE-TIME:20260424T143119Z
UID:87d26c5b0581cb65d9831ee42616d37d
CREATED;VALUE=DATE-TIME:20130629T000000Z
CATEGORIES:Conferència
LOCATION:Fundació Palau
ORGANIZER:Fundació Palau i Ajuntament Caldes d'Estrac
COMMENT:Preu: Gratuït
Durada: Fins a les 19hrs
DESCRIPTION:CONFERÈNCIA DE CRISTINA MENDOZA SOBRE NICOLAU RAURICH
URL:https://caldetes.cat/document.php?id=2240
END:VEVENT
END:VCALENDAR