BEGIN:VCALENDAR
VERSION:2.0
PRODID:-//Plone.org//NONSGML plone.app.event//EN
X-WR-TIMEZONE:Europe/Madrid
BEGIN:VEVENT
SUMMARY:Brossa Quartet de corda, Falsalarma, Jordi Domènech i Gregori Ferrer, Retaule d'Avars
POESIA I +. Festival d'estiu a la Fundació Palau
DTSTART;TZID=Europe/Madrid;VALUE=DATE-TIME:20130629T220000
DTEND;TZID=Europe/Madrid;VALUE=DATE-TIME:20130629T230000
DTSTAMP;VALUE=DATE-TIME:20260425T211700Z
UID:3399322da83ad8faafae6a8f09a9ec83
CREATED;VALUE=DATE-TIME:20130629T000000Z
CATEGORIES:Música
LOCATION:Pèrgola Can Muntanyà
ORGANIZER:Fundació Palau i Ajuntament Caldes d'Estrac
COMMENT:Preu: 6
DESCRIPTION:Del 28 de juny al 12 de juliol
URL:https://caldetes.cat/document.php?id=2242
END:VEVENT
END:VCALENDAR