BEGIN:VCALENDAR
VERSION:2.0
PRODID:-//Plone.org//NONSGML plone.app.event//EN
X-WR-TIMEZONE:Europe/Madrid
BEGIN:VEVENT
SUMMARY:La idea d'Europa, de George Steiner. Teatre de la mà d'Oscar Intente
POESIA I +. Festival d'estiu a la Fundació Palau
DTSTART;TZID=Europe/Madrid;VALUE=DATE-TIME:20130630T220000
DTEND;TZID=Europe/Madrid;VALUE=DATE-TIME:20130630T230000
DTSTAMP;VALUE=DATE-TIME:20260423T033832Z
UID:b064da55ec6942e3d49e9979344d0054
CREATED;VALUE=DATE-TIME:20130630T000000Z
CATEGORIES:Teatre
LOCATION:Fundació Palau
ORGANIZER:Fundació Palau i Ajuntament Caldes d'Estrac
COMMENT:Preu: Gratuït
DESCRIPTION:Del 28 de juny al 12 de juliol
URL:https://caldetes.cat/document.php?id=2243
END:VEVENT
END:VCALENDAR