BEGIN:VCALENDAR
VERSION:2.0
PRODID:-//Plone.org//NONSGML plone.app.event//EN
X-WR-TIMEZONE:Europe/Madrid
BEGIN:VEVENT
SUMMARY:Visita guiada a l'exposició permanent

POESIA I +. Festival d'estiu a la Fundació Palau
DTSTART;TZID=Europe/Madrid;VALUE=DATE-TIME:20130705T193000
DTEND;TZID=Europe/Madrid;VALUE=DATE-TIME:20130705T203000
DTSTAMP;VALUE=DATE-TIME:20260424T132948Z
UID:5de563ee7ac1377900050804ac8f145f
CREATED;VALUE=DATE-TIME:20130705T000000Z
CATEGORIES:Exposició
LOCATION:Fundació Palau
ORGANIZER:Fundació Palau i Ajuntament Caldes d'Estrac
COMMENT:Preu: Gratuït
DESCRIPTION:Del 28 de juny al 12 de juliol
URL:https://caldetes.cat/document.php?id=2245
END:VEVENT
END:VCALENDAR