BEGIN:VCALENDAR
VERSION:2.0
PRODID:-//Plone.org//NONSGML plone.app.event//EN
X-WR-TIMEZONE:Europe/Madrid
BEGIN:VEVENT
SUMMARY:Nit de poetes

POESIA I +. Festival d'estiu a la Fundació Palau
DTSTART;TZID=Europe/Madrid;VALUE=DATE-TIME:20130705T210000
DTEND;TZID=Europe/Madrid;VALUE=DATE-TIME:20130705T220000
DTSTAMP;VALUE=DATE-TIME:20260425T181637Z
UID:160158af0fd0892addd6b444de9437f4
CREATED;VALUE=DATE-TIME:20130705T000000Z
CATEGORIES:Música
LOCATION:Pèrgola Can Muntanyà
ORGANIZER:Fundació Palau i Ajuntament Caldes d'Estrac
COMMENT:Preu: 6 (entrada conjunta amb el concert de Pau Riba)
DESCRIPTION:Del 28 de juny al 12 de juliol
URL:https://caldetes.cat/document.php?id=2246
END:VEVENT
END:VCALENDAR