BEGIN:VCALENDAR
VERSION:2.0
PRODID:-//Plone.org//NONSGML plone.app.event//EN
X-WR-TIMEZONE:Europe/Madrid
BEGIN:VEVENT
SUMMARY:Concert de Pau Riba i Els Gripaus, 40 gripaus

POESIA I +. Festival d'estiu a la Fundació Palau
DTSTART;TZID=Europe/Madrid;VALUE=DATE-TIME:20130705T223000
DTEND;TZID=Europe/Madrid;VALUE=DATE-TIME:20130705T233000
DTSTAMP;VALUE=DATE-TIME:20260425T033641Z
UID:1f00951602859349ee3b515ebbfd6b48
CREATED;VALUE=DATE-TIME:20130705T000000Z
CATEGORIES:Música
LOCATION:Pèrgola Can Muntanyà
ORGANIZER:Fundació Palau i Ajuntament Caldes d'Estrac
COMMENT:Preu: 6 (entrada conjunta amb Nit de Poetes)
DESCRIPTION:Del 28 de juny al 12 de juliol
URL:https://caldetes.cat/document.php?id=2247
END:VEVENT
END:VCALENDAR