BEGIN:VCALENDAR
VERSION:2.0
PRODID:-//Plone.org//NONSGML plone.app.event//EN
X-WR-TIMEZONE:Europe/Madrid
BEGIN:VEVENT
SUMMARY:Combat d'amor i guerra, alquímia poètica de Marc Serrats, Carles Belda, Pau Gener i Xavier Grimau

POESIA I +. Festival d'estiu a la Fundació Palau
DTSTART;TZID=Europe/Madrid;VALUE=DATE-TIME:20130711T200000
DTEND;TZID=Europe/Madrid;VALUE=DATE-TIME:20130711T210000
DTSTAMP;VALUE=DATE-TIME:20260426T050401Z
UID:48874ea2e5950747615c54406de6660a
CREATED;VALUE=DATE-TIME:20130711T000000Z
CATEGORIES:Música
LOCATION:Pati de la Fundació Palau
ORGANIZER:Fundació Palau i Ajuntament Caldes d'Estrac
COMMENT:Preu: Gratuït
DESCRIPTION:Del 28 de juny al 12 de juliol
URL:https://caldetes.cat/document.php?id=2253
END:VEVENT
END:VCALENDAR