BEGIN:VCALENDAR
VERSION:2.0
PRODID:-//Plone.org//NONSGML plone.app.event//EN
X-WR-TIMEZONE:Europe/Madrid
BEGIN:VEVENT
SUMMARY:Accidents polipoètics. POESIA I +. Festival d'estiu a la Fundació Palau
DTSTART;TZID=Europe/Madrid;VALUE=DATE-TIME:20130712T200000
DTEND;TZID=Europe/Madrid;VALUE=DATE-TIME:20130712T210000
DTSTAMP;VALUE=DATE-TIME:20260424T154158Z
UID:10134144fb48af57d421fa4f22ee4f77
CREATED;VALUE=DATE-TIME:20130712T000000Z
CATEGORIES:Música
LOCATION:Pati de la Fundació Palau
ORGANIZER:Fundació Palau i Ajuntament Caldes d'Estrac
COMMENT:Preu: Gratuït
DESCRIPTION:Polipoesia
URL:https://caldetes.cat/document.php?id=2254
END:VEVENT
END:VCALENDAR