BEGIN:VCALENDAR
VERSION:2.0
PRODID:-//Plone.org//NONSGML plone.app.event//EN
X-WR-TIMEZONE:Europe/Madrid
BEGIN:VEVENT
SUMMARY:Exposició dels 20 anys de Bola de Drac
DTSTART;TZID=Europe/Madrid;VALUE=DATE-TIME:20130705T153000
DTEND;TZID=Europe/Madrid;VALUE=DATE-TIME:20130705T163000
DTSTAMP;VALUE=DATE-TIME:20260425T033829Z
UID:309bee7be9557edd9583285f1709f4fe
CREATED;VALUE=DATE-TIME:20130705T000000Z
CATEGORIES:Exposició
LOCATION:Biblioteca Can Milans
ORGANIZER:Biblioteca Can Milans
COMMENT:Durada: De 2 al 25 de juliol
DESCRIPTION:Fins el 25 de juliol
URL:https://caldetes.cat/document.php?id=2259
END:VEVENT
END:VCALENDAR