BEGIN:VCALENDAR
VERSION:2.0
PRODID:-//Plone.org//NONSGML plone.app.event//EN
X-WR-TIMEZONE:Europe/Madrid
BEGIN:VEVENT
SUMMARY:Festa infantil dels 20 anys de la biblioteca Can Milans
DTSTART;TZID=Europe/Madrid;VALUE=DATE-TIME:20130726T180000
DTEND;TZID=Europe/Madrid;VALUE=DATE-TIME:20130726T190000
DTSTAMP;VALUE=DATE-TIME:20260425T224037Z
UID:aa69eca59d96ebba27337b0b8efcda26
CREATED;VALUE=DATE-TIME:20130726T000000Z
LOCATION:Biblioteca Can Milans
DESCRIPTION:Diverses activitats
URL:https://caldetes.cat/document.php?id=2263
END:VEVENT
END:VCALENDAR