BEGIN:VCALENDAR
VERSION:2.0
PRODID:-//Plone.org//NONSGML plone.app.event//EN
X-WR-TIMEZONE:Europe/Madrid
BEGIN:VEVENT
SUMMARY:Exposició: 20 anys de biblioteca a Caldes d'Estrac
DTSTART;TZID=Europe/Madrid;VALUE=DATE-TIME:20130619T185600
DTEND;TZID=Europe/Madrid;VALUE=DATE-TIME:20130619T195600
DTSTAMP;VALUE=DATE-TIME:20260424T160803Z
UID:2321ef9b2cc6415114f495376e794822
CREATED;VALUE=DATE-TIME:20130619T000000Z
LOCATION:Biblioteca Can Milans
ORGANIZER:Biblioteca Can Milans
DESCRIPTION:Fins al 31 d'agost
URL:https://caldetes.cat/document.php?id=2264
END:VEVENT
END:VCALENDAR