BEGIN:VCALENDAR
VERSION:2.0
PRODID:-//Plone.org//NONSGML plone.app.event//EN
X-WR-TIMEZONE:Europe/Madrid
BEGIN:VEVENT
SUMMARY:Concert del Carme
Poesia musicada, "Antologia de Salvador Espriu", a càrrec de Gemma Sangerman
DTSTART;TZID=Europe/Madrid;VALUE=DATE-TIME:20130713T220000
DTEND;TZID=Europe/Madrid;VALUE=DATE-TIME:20130713T230000
DTSTAMP;VALUE=DATE-TIME:20260425T232212Z
UID:066dfb1e331595be451152e09ced923e
CREATED;VALUE=DATE-TIME:20130713T000000Z
LOCATION:C/ de l'Esglèsia (davant la Biblioteca Can Milans)
ORGANIZER:Arrels Cultura i Agrupació de Pensionistes i Tercera Edat, amb el patrocini del Patronat Pro Musica de Premià de Dalt i de de l'Ajuntament de Caldes d'Estrac
DESCRIPTION:Dins el 36è Festival de Música del Maresme
URL:https://caldetes.cat/document.php?id=2266
END:VEVENT
END:VCALENDAR