BEGIN:VCALENDAR
VERSION:2.0
PRODID:-//Plone.org//NONSGML plone.app.event//EN
X-WR-TIMEZONE:Europe/Madrid
BEGIN:VEVENT
SUMMARY:Música i poesia a càrrec de Dídac Rocher
DTSTART;TZID=Europe/Madrid;VALUE=DATE-TIME:20130719T220000
DTEND;TZID=Europe/Madrid;VALUE=DATE-TIME:20130719T230000
DTSTAMP;VALUE=DATE-TIME:20260425T230825Z
UID:06b77f58c260edaef6b4da2da07e1132
CREATED;VALUE=DATE-TIME:20130719T000000Z
LOCATION:Biblioteca Can Milans
ORGANIZER:Biblioteca Can Milans i Patronat Pro Musica de Premià de Dalt, amb la participació de l'Ajuntament de Caldes d'Estrac
DESCRIPTION:Concert inclòs en la programació dels actes de celebració de l'aniversari de la biblioteca Can Milans i acte destacat del 36è Festival de Música del Maresme
URL:https://caldetes.cat/document.php?id=2267
END:VEVENT
END:VCALENDAR