BEGIN:VCALENDAR
VERSION:2.0
PRODID:-//Plone.org//NONSGML plone.app.event//EN
X-WR-TIMEZONE:Europe/Madrid
BEGIN:VEVENT
SUMMARY:Melés Golfes
DTSTART;TZID=Europe/Madrid;VALUE=DATE-TIME:20130705T220000
DTEND;TZID=Europe/Madrid;VALUE=DATE-TIME:20130705T230000
DTSTAMP;VALUE=DATE-TIME:20260425T003109Z
UID:87959553a04f0359c74a58c9674a9569
CREATED;VALUE=DATE-TIME:20130705T000000Z
LOCATION:Pistes Municipals de Petanca
ORGANIZER:Club de Petanca de Caldes d'Estrac
URL:https://caldetes.cat/document.php?id=2270
END:VEVENT
END:VCALENDAR