BEGIN:VCALENDAR
VERSION:2.0
PRODID:-//Plone.org//NONSGML plone.app.event//EN
X-WR-TIMEZONE:Europe/Madrid
BEGIN:VEVENT
SUMMARY:Melés Golfes
DTSTART;TZID=Europe/Madrid;VALUE=DATE-TIME:20130726T220000
DTEND;TZID=Europe/Madrid;VALUE=DATE-TIME:20130726T230000
DTSTAMP;VALUE=DATE-TIME:20260426T004452Z
UID:28d38bdb20d29bc000b9291ae94071ab
CREATED;VALUE=DATE-TIME:20130726T000000Z
LOCATION:Pistes Municipals de Petanca
ORGANIZER:Club de Petanca de Caldes d'Estrac
URL:https://caldetes.cat/document.php?id=2276
END:VEVENT
END:VCALENDAR