BEGIN:VCALENDAR
VERSION:2.0
PRODID:-//Plone.org//NONSGML plone.app.event//EN
X-WR-TIMEZONE:Europe/Madrid
BEGIN:VEVENT
SUMMARY:Melé
DTSTART;TZID=Europe/Madrid;VALUE=DATE-TIME:20130727T180000
DTEND;TZID=Europe/Madrid;VALUE=DATE-TIME:20130727T190000
DTSTAMP;VALUE=DATE-TIME:20260426T033520Z
UID:cb8820a056c1be220ebfdef32f8d1d8e
CREATED;VALUE=DATE-TIME:20130727T000000Z
LOCATION:Pistes Municipals de Petanca
ORGANIZER:Club de Petanca de Caldes d'Estrac
COMMENT:Preu: 4 &euro;
DESCRIPTION:Premis als 2 primers classificats de cada grup
URL:https://caldetes.cat/document.php?id=2291
END:VEVENT
END:VCALENDAR