BEGIN:VCALENDAR
VERSION:2.0
PRODID:-//Plone.org//NONSGML plone.app.event//EN
X-WR-TIMEZONE:Europe/Madrid
BEGIN:VEVENT
SUMMARY:Melé
DTSTART;TZID=Europe/Madrid;VALUE=DATE-TIME:20130803T180000
DTEND;TZID=Europe/Madrid;VALUE=DATE-TIME:20130803T190000
DTSTAMP;VALUE=DATE-TIME:20260424T143049Z
UID:916a2be6022d4db51cb4dfbbdf583970
CREATED;VALUE=DATE-TIME:20130803T000000Z
LOCATION:Pistes Municipals de Petanca
ORGANIZER:Club de Petanca de Caldes d'Estrac
COMMENT:Preu: 4 &euro;
DESCRIPTION:Premis als 2 primers classificats de cada grup
URL:https://caldetes.cat/document.php?id=2292
END:VEVENT
END:VCALENDAR