BEGIN:VCALENDAR
VERSION:2.0
PRODID:-//Plone.org//NONSGML plone.app.event//EN
X-WR-TIMEZONE:Europe/Madrid
BEGIN:VEVENT
SUMMARY:Melé
DTSTART;TZID=Europe/Madrid;VALUE=DATE-TIME:20130824T180000
DTEND;TZID=Europe/Madrid;VALUE=DATE-TIME:20130824T190000
DTSTAMP;VALUE=DATE-TIME:20260425T123223Z
UID:6cf0390a634833ca5622e08ea10ccf5d
CREATED;VALUE=DATE-TIME:20130824T000000Z
LOCATION:Pistes Municipals de Petanca
ORGANIZER:Club de Petanca de Caldes d'Estrac
COMMENT:Preu: 4 &euro;
DESCRIPTION:Premis als 2 primers classificats de cada grup
URL:https://caldetes.cat/document.php?id=2295
END:VEVENT
END:VCALENDAR