BEGIN:VCALENDAR
VERSION:2.0
PRODID:-//Plone.org//NONSGML plone.app.event//EN
X-WR-TIMEZONE:Europe/Madrid
BEGIN:VEVENT
SUMMARY:Melé
DTSTART;TZID=Europe/Madrid;VALUE=DATE-TIME:20130831T180000
DTEND;TZID=Europe/Madrid;VALUE=DATE-TIME:20130831T190000
DTSTAMP;VALUE=DATE-TIME:20260425T210558Z
UID:fd76755af8260c6a17ebc72c86b45e27
CREATED;VALUE=DATE-TIME:20130831T000000Z
LOCATION:Pistes Municipals de Petanca
ORGANIZER:Club de Petanca de Caldes d'Estrac
COMMENT:Preu: 4 &euro;
DESCRIPTION:Premis als 2 primers classificats de cada grup
URL:https://caldetes.cat/document.php?id=2296
END:VEVENT
END:VCALENDAR