BEGIN:VCALENDAR
VERSION:2.0
PRODID:-//Plone.org//NONSGML plone.app.event//EN
X-WR-TIMEZONE:Europe/Madrid
BEGIN:VEVENT
SUMMARY:Petanca
Setmana social amb torneig especial (17-18 de juliol)
DTSTART;TZID=Europe/Madrid;VALUE=DATE-TIME:20130718T180000
DTEND;TZID=Europe/Madrid;VALUE=DATE-TIME:20130718T190000
DTSTAMP;VALUE=DATE-TIME:20260424T145037Z
UID:ae638b6b35921ea1f983a63b4381f285
CREATED;VALUE=DATE-TIME:20130718T000000Z
LOCATION:Pistes Municipals de Petanca
ORGANIZER:Club Petanca Caldes d'Estrac
COMMENT:Preu: 5 
URL:https://caldetes.cat/document.php?id=2302
END:VEVENT
END:VCALENDAR