BEGIN:VCALENDAR
VERSION:2.0
PRODID:-//Plone.org//NONSGML plone.app.event//EN
X-WR-TIMEZONE:Europe/Madrid
BEGIN:VEVENT
SUMMARY:Petanca
Torneig Infantil de Festa Major
DTSTART;TZID=Europe/Madrid;VALUE=DATE-TIME:20130831T170000
DTEND;TZID=Europe/Madrid;VALUE=DATE-TIME:20130831T180000
DTSTAMP;VALUE=DATE-TIME:20260426T033640Z
UID:8f367e9300ba7cbcc138cabe9b01c807
CREATED;VALUE=DATE-TIME:20130831T000000Z
LOCATION:Pistes Municipals de Petanca
ORGANIZER:Club Petanca Caldes d'Estrac
COMMENT:Preu: Gratuït
DESCRIPTION:Per a infants de 4 a 12 anys
URL:https://caldetes.cat/document.php?id=2305
END:VEVENT
END:VCALENDAR